View In:
ArcGIS JavaScript
ArcGIS Online Map Viewer
ArcGIS Earth
Service Description: Air Quality DMZ
Name: TransportPolicy_AirQuality/Transpot_Policy_Air_Quality_NO2_9979_percentile_dmz
Description: Air Quality DMZ
Single Fused Map Cache: false
Extent:
XMin: 475795.0
YMin: 127995.0
XMax: 545895.0
YMax: 176965.0
Spatial Reference: 27700
(27700)
LatestVCSWkid(0)
Initial Extent:
XMin: 475795.0
YMin: 127995.0
XMax: 545895.0
YMax: 176965.0
Spatial Reference: 27700
(27700)
LatestVCSWkid(0)
Full Extent:
XMin: 475795.0
YMin: 127995.0
XMax: 545895.0
YMax: 176965.0
Spatial Reference: 27700
(27700)
LatestVCSWkid(0)
Pixel Size X: 10.0
Pixel Size Y: 10.0
Band Count: 1
Pixel Type: F64
RasterFunction Infos: {"rasterFunctionInfos": [{
"name": "None",
"description": "",
"help": ""
}]}
Mensuration Capabilities: Basic
Has Histograms: true
Has Colormap: false
Has Multi Dimensions : false
Rendering Rule:
Min Scale: 0
Max Scale: 0
Copyright Text: scc
Service Data Type: esriImageServiceDataTypeGeneric
Min Values: 98.9118
Max Values: 801.7142027050924
Mean Values: 132.44940275055347
Standard Deviation Values: 15.615365588657948
Object ID Field:
Fields:
None
Default Mosaic Method: Center
Allowed Mosaic Methods:
SortField:
SortValue: null
Mosaic Operator: First
Default Compression Quality: 75
Default Resampling Method: Bilinear
Max Record Count: null
Max Image Height: 4100
Max Image Width: 15000
Max Download Image Count: null
Max Mosaic Image Count: null
Allow Raster Function: true
Allow Copy: true
Allow Analysis: true
Allow Compute TiePoints: false
Supports Statistics: false
Supports Advanced Queries: false
Use StandardizedQueries: true
Raster Type Infos:
Name: Raster Dataset
Description: Supports all ArcGIS Raster Datasets
Help:
Has Raster Attribute Table: false
Edit Fields Info: null
Ownership Based AccessControl For Rasters: null
Child Resources:
Info
Histograms
Statistics
Key Properties
Legend
Raster Function Infos
Supported Operations:
Export Image
Identify
Measure
Compute Histograms
Compute Statistics Histograms
Get Samples
Compute Class Statistics
Query Boundary
Compute Pixel Location
Compute Angles
Validate
Project